BEGIN:VCALENDAR
VERSION:2.0
PRODID:SchoolNow
CALSCALE:GREGORIAN
BEGIN:VEVENT
UID:6670d4f6-6259-11f0-adb9-0a58a9feac02
DTSTAMP:20250716T152735Z
SUMMARY:Back to School Night - Sierra Vista Elementary
LOCATION:Sierra Vista Elementary
URL;VALUE=URI:https://www.lahabraschools.org/calendar/8419875/back-to-schoo
 l-night-sierra-vista-elementary
DTSTART:20250821T003000Z
DTEND:20250821T020000Z
END:VEVENT
END:VCALENDAR
