BEGIN:VCALENDAR
VERSION:2.0
PRODID:SchoolNow
CALSCALE:GREGORIAN
BEGIN:VEVENT
UID:895fc4ae-6259-11f0-8034-0eda56c5edcb
DTSTAMP:20250716T152834Z
SUMMARY:Back to School Night - Walnut Elementary
LOCATION:Walnut Elementary
URL;VALUE=URI:https://www.lahabraschools.org/calendar/8419876/back-to-schoo
 l-night-walnut-elementary
DTSTART:20250814T003000Z
DTEND:20250814T020000Z
END:VEVENT
END:VCALENDAR
