BEGIN:VCALENDAR
VERSION:2.0
PRODID:SchoolNow
CALSCALE:GREGORIAN
BEGIN:VEVENT
UID:a5d6e7d4-6259-11f0-a7ec-0a58a9feac02
DTSTAMP:20250716T152937Z
SUMMARY:Back to School Night - Imperial Middle School
LOCATION:Imperial Middle School
URL;VALUE=URI:https://www.lahabraschools.org/calendar/8419877/back-to-schoo
 l-night-imperial-middle-school
DTSTART;VALUE=DATE:20250821
DTEND;VALUE=DATE:20250822
END:VEVENT
END:VCALENDAR
