BEGIN:VCALENDAR
VERSION:2.0
PRODID:SchoolNow
CALSCALE:GREGORIAN
BEGIN:VEVENT
UID:de074078-73b5-11f0-bdaa-026868b05a49
DTSTAMP:20250807T174351Z
SUMMARY:First Day of School! TK-7th Grade Students
URL;VALUE=URI:https://www.lahabraschools.org/calendar/8479047/first-day-of-
 school-tk-7-grade
DTSTART;VALUE=DATE:20250811
DTEND;VALUE=DATE:20250812
END:VEVENT
END:VCALENDAR
