BEGIN:VCALENDAR
VERSION:2.0
PRODID:SchoolNow
CALSCALE:GREGORIAN
BEGIN:VEVENT
UID:e89e9c48-73b5-11f0-b817-0a58a9feac02
DTSTAMP:20250807T174310Z
SUMMARY:First Day of School! 8th Grade Students
URL;VALUE=URI:https://www.lahabraschools.org/calendar/8479048/first-day-of-
 school-8th-grade-students
DTSTART;VALUE=DATE:20250812
DTEND;VALUE=DATE:20250813
END:VEVENT
END:VCALENDAR
