BEGIN:VCALENDAR
VERSION:2.0
PRODID:SchoolNow
CALSCALE:GREGORIAN
BEGIN:VEVENT
UID:8709423c-7dd6-11f0-93ca-0afff983aa55
DTSTAMP:20250820T150119Z
SUMMARY:Personnel Commission Meeting
URL;VALUE=URI:https://www.lahabraschools.org/calendar/8524806/personnel-com
 mission-meeting
DTSTART:20250916T233000Z
DTEND:20250917T000000Z
END:VEVENT
END:VCALENDAR
