BEGIN:VCALENDAR
VERSION:2.0
PRODID:SchoolNow
CALSCALE:GREGORIAN
BEGIN:VEVENT
UID:3224684e-9417-11f0-8cd9-02795e4934c3
DTSTAMP:20250917T223939Z
SUMMARY:Personnel Commission Meeting
URL;VALUE=URI:https://www.lahabraschools.org/calendar/8634407/personnel-com
 mission-meeting
DTSTART:20251021T233000Z
DTEND:20251022T000000Z
END:VEVENT
END:VCALENDAR
