BEGIN:VCALENDAR
VERSION:2.0
PRODID:SchoolNow
CALSCALE:GREGORIAN
BEGIN:VEVENT
UID:3dd225c6-af7b-11f0-8d02-0a58a9feac02
DTSTAMP:20251022T191350Z
SUMMARY:Personnel Commission Meeting
URL;VALUE=URI:https://www.lahabraschools.org/calendar/8743145/personnel-com
 mission-meeting
DTSTART:20251119T003000Z
DTEND:20251119T010000Z
END:VEVENT
END:VCALENDAR
