BEGIN:VCALENDAR
VERSION:2.0
PRODID:SchoolNow
CALSCALE:GREGORIAN
BEGIN:VEVENT
UID:87393290-af7b-11f0-94a5-0a58a9feac02
DTSTAMP:20251022T191553Z
SUMMARY:Personnel Commission Meeting
URL;VALUE=URI:https://www.lahabraschools.org/calendar/8743146/personnel-com
 mission-meeting
DTSTART:20251217T003000Z
DTEND:20251217T010000Z
END:VEVENT
END:VCALENDAR
