BEGIN:VCALENDAR
VERSION:2.0
PRODID:SchoolNow
CALSCALE:GREGORIAN
BEGIN:VEVENT
UID:eb76e12e-b5e5-11f0-be03-0a58a9feac02
DTSTAMP:20251217T081009Z
SUMMARY:Staff Development Day
URL;VALUE=URI:https://www.lahabraschools.org/calendar/8762492/staff-develop
 ment-day
DTSTART;VALUE=DATE:20251103
DTEND;VALUE=DATE:20251104
END:VEVENT
END:VCALENDAR
