BEGIN:VCALENDAR
VERSION:2.0
PRODID:SchoolNow
CALSCALE:GREGORIAN
BEGIN:VEVENT
UID:eb7702f8-b5e5-11f0-af1b-0a58a9feac02
DTSTAMP:20251217T081009Z
SUMMARY:Veteran's Day - No Classes
URL;VALUE=URI:https://www.lahabraschools.org/calendar/8762493/veterans-day-
 no-classes
DTSTART;VALUE=DATE:20251111
DTEND;VALUE=DATE:20251112
END:VEVENT
END:VCALENDAR
