BEGIN:VCALENDAR
VERSION:2.0
PRODID:SchoolNow
CALSCALE:GREGORIAN
BEGIN:VEVENT
UID:18b3cc54-b5e8-11f0-aad4-0a58a9feac02
DTSTAMP:20251217T081009Z
SUMMARY:Thanksgiving Recess
URL;VALUE=URI:https://www.lahabraschools.org/calendar/8762494/thanksgiving-
 recess
DTSTART;VALUE=DATE:20251124
DTEND;VALUE=DATE:20251129
END:VEVENT
END:VCALENDAR
