BEGIN:VCALENDAR
VERSION:2.0
PRODID:SchoolNow
CALSCALE:GREGORIAN
BEGIN:VEVENT
UID:18b3f094-b5e8-11f0-b26b-0a58a9feac02
DTSTAMP:20251217T081009Z
SUMMARY:Staff Development Day - No Classes
URL;VALUE=URI:https://www.lahabraschools.org/calendar/8762496/staff-develop
 ment-day-no-classes
DTSTART;VALUE=DATE:20260105
DTEND;VALUE=DATE:20260106
END:VEVENT
END:VCALENDAR
