BEGIN:VCALENDAR
VERSION:2.0
PRODID:SchoolNow
CALSCALE:GREGORIAN
BEGIN:VEVENT
UID:18b3f1c0-b5e8-11f0-bdf0-0a58a9feac02
DTSTAMP:20251217T081009Z
SUMMARY:Martin Luther King Day
URL;VALUE=URI:https://www.lahabraschools.org/calendar/8762497/martin-luther
 -king-day
DTSTART;VALUE=DATE:20260119
DTEND;VALUE=DATE:20260120
END:VEVENT
END:VCALENDAR
