BEGIN:VCALENDAR
VERSION:2.0
PRODID:SchoolNow
CALSCALE:GREGORIAN
BEGIN:VEVENT
UID:18b3f3be-b5e8-11f0-a9f4-0a58a9feac02
DTSTAMP:20251217T081009Z
SUMMARY:Lincoln's Day
URL;VALUE=URI:https://www.lahabraschools.org/calendar/8762499/lincolns-day
DTSTART;VALUE=DATE:20260209
DTEND;VALUE=DATE:20260210
END:VEVENT
END:VCALENDAR
