BEGIN:VCALENDAR
VERSION:2.0
PRODID:SchoolNow
CALSCALE:GREGORIAN
BEGIN:VEVENT
UID:18b3fcce-b5e8-11f0-b966-0a58a9feac02
DTSTAMP:20251217T081009Z
SUMMARY:First Day of Summer Bridge
URL;VALUE=URI:https://www.lahabraschools.org/calendar/8762508/first-day-of-
 summer-bridge
DTSTART;VALUE=DATE:20260602
DTEND;VALUE=DATE:20260603
END:VEVENT
END:VCALENDAR
