BEGIN:VCALENDAR
VERSION:2.0
PRODID:SchoolNow
CALSCALE:GREGORIAN
BEGIN:VEVENT
UID:18b3fe18-b5e8-11f0-b025-0a58a9feac02
DTSTAMP:20251217T081009Z
SUMMARY:Last Day of Summer Bridge
URL;VALUE=URI:https://www.lahabraschools.org/calendar/8762509/last-day-of-s
 ummer-bridge
DTSTART;VALUE=DATE:20260626
DTEND;VALUE=DATE:20260627
END:VEVENT
END:VCALENDAR
