BEGIN:VCALENDAR
VERSION:2.0
PRODID:SchoolNow
CALSCALE:GREGORIAN
BEGIN:VEVENT
UID:18b3ff08-b5e8-11f0-8743-0a58a9feac02
DTSTAMP:20251217T081009Z
SUMMARY:Juneteenth - No Summer Bridge
URL;VALUE=URI:https://www.lahabraschools.org/calendar/8762510/juneteenth-no
 -summer-bridge
DTSTART;VALUE=DATE:20260619
DTEND;VALUE=DATE:20260620
END:VEVENT
END:VCALENDAR
