BEGIN:VCALENDAR
VERSION:2.0
PRODID:SchoolNow
CALSCALE:GREGORIAN
BEGIN:VEVENT
UID:c4f7ede4-d477-11f0-9c67-0afffe4b8a69
DTSTAMP:20260106T003008Z
SUMMARY:Board Meeting
LOCATION:https://simbli.eboardsolutions.com/SB_Meetings/ViewMeeting.aspx?S=
 36030699&MID=51221
URL;VALUE=URI:https://www.lahabraschools.org/calendar/8820109/board-meeting
DTSTART:20260109T020000Z
DTEND:20260109T030000Z
END:VEVENT
END:VCALENDAR
