BEGIN:VCALENDAR
VERSION:2.0
PRODID:SchoolNow
CALSCALE:GREGORIAN
BEGIN:VEVENT
UID:489612d4-d478-11f0-9437-0a58a9feac02
DTSTAMP:20251208T205552Z
SUMMARY:Board Meeting
URL;VALUE=URI:https://www.lahabraschools.org/calendar/8820115/board-meeting
DTSTART:20260626T010000Z
DTEND:20260626T020000Z
END:VEVENT
END:VCALENDAR
