BEGIN:VCALENDAR
VERSION:2.0
PRODID:SchoolNow
CALSCALE:GREGORIAN
BEGIN:VEVENT
UID:5f75139c-d478-11f0-9d46-0a58a9feac02
DTSTAMP:20251208T205631Z
SUMMARY:Board Meeting
URL;VALUE=URI:https://www.lahabraschools.org/calendar/8820116/board-meeting
DTSTART:20260814T010000Z
DTEND:20260814T020000Z
END:VEVENT
END:VCALENDAR
