BEGIN:VCALENDAR
VERSION:2.0
PRODID:SchoolNow
CALSCALE:GREGORIAN
BEGIN:VEVENT
UID:de9136c4-d478-11f0-81ce-0affde9e768d
DTSTAMP:20260106T170419Z
SUMMARY:Board Meeting
URL;VALUE=URI:https://www.lahabraschools.org/calendar/8820121/board-meeting
DTSTART:20261218T020000Z
DTEND:20261218T030000Z
END:VEVENT
END:VCALENDAR
