BEGIN:VCALENDAR
VERSION:2.0
PRODID:SchoolNow
CALSCALE:GREGORIAN
BEGIN:VEVENT
UID:844695b2-eb5a-11f0-b6f9-029ef081912b
DTSTAMP:20260106T235044Z
SUMMARY:TK/K Registration Kick Off
URL;VALUE=URI:https://www.lahabraschools.org/calendar/8832139/tk-k-registra
 tion-kick-off
DTSTART:20260115T020000Z
DTEND:20260115T030000Z
END:VEVENT
END:VCALENDAR
