BEGIN:VCALENDAR
VERSION:2.0
PRODID:SchoolNow
CALSCALE:GREGORIAN
BEGIN:VEVENT
UID:8e97b082-f334-11f0-ab21-0afff43ea003
DTSTAMP:20260116T233910Z
SUMMARY:Personnel Commission Meeting
URL;VALUE=URI:https://www.lahabraschools.org/calendar/8837335/personnel-com
 mission-meeting
DTSTART:20260121T003000Z
DTEND:20260121T010000Z
END:VEVENT
END:VCALENDAR
