BEGIN:VCALENDAR
VERSION:2.0
PRODID:SchoolNow
CALSCALE:GREGORIAN
BEGIN:VEVENT
UID:53f64fee-f7ba-11f0-a915-0ee2f9582649
DTSTAMP:20260122T174649Z
SUMMARY:Personnel Commission Meeting
URL;VALUE=URI:https://www.lahabraschools.org/calendar/8839356/personnel-com
 mission-meeting
DTSTART:20260218T003000Z
DTEND:20260218T010000Z
END:VEVENT
END:VCALENDAR
