BEGIN:VCALENDAR
VERSION:2.0
PRODID:SchoolNow
CALSCALE:GREGORIAN
BEGIN:VEVENT
UID:45fa5524-29e5-11ef-a217-0a58a9feac02
DTSTAMP:20260420T105507Z
SUMMARY:Board Meeting
LOCATION:District Office-1-Curriculum Center (120)\, District Office-1-Boar
 d Room (120)
URL;VALUE=URI:https://www.lahabraschools.org/elcerrito/calendar/6118592/boa
 rd-meeting
DTSTART:20260213T020000Z
DTEND:20260213T030000Z
END:VEVENT
END:VCALENDAR
