BEGIN:VCALENDAR
VERSION:2.0
PRODID:SchoolNow
CALSCALE:GREGORIAN
BEGIN:VEVENT
UID:ca8b0366-59dc-11ef-9526-0affcd4c95f1
DTSTAMP:20260420T105507Z
SUMMARY:Board Meeting
LOCATION:District Office-1-Curriculum Center (120)\, District Office-1-Boar
 d Room (120)
URL;VALUE=URI:https://www.lahabraschools.org/elcerrito/calendar/6396079/boa
 rd-meeting
DTSTART:20260410T010000Z
DTEND:20260410T020000Z
END:VEVENT
END:VCALENDAR
