BEGIN:VCALENDAR
VERSION:2.0
PRODID:SchoolNow
CALSCALE:GREGORIAN
BEGIN:VEVENT
UID:878d16d4-79ef-11ef-85e4-0a58a9feac02
DTSTAMP:20260420T105507Z
SUMMARY:Board Meeting
LOCATION:District Office-1-Curriculum Center (120)\, District Office-1-Boar
 d Room (120)
URL;VALUE=URI:https://www.lahabraschools.org/elcerrito/calendar/6673002/boa
 rd-meeting
DTSTART:20260515T010000Z
DTEND:20260515T020000Z
END:VEVENT
END:VCALENDAR
