BEGIN:VCALENDAR
VERSION:2.0
PRODID:SchoolNow
CALSCALE:GREGORIAN
BEGIN:VEVENT
UID:a4ebe1fa-8b43-11ef-ac55-0a58a9feac02
DTSTAMP:20260420T105507Z
SUMMARY:Board Meeting
LOCATION:District Office-1-Curriculum Center (120)\, District Office-1-Boar
 d Room (120)
URL;VALUE=URI:https://www.lahabraschools.org/elcerrito/calendar/6831792/boa
 rd-meeting
DTSTART:20260612T010000Z
DTEND:20260612T020000Z
END:VEVENT
END:VCALENDAR
