BEGIN:VCALENDAR
VERSION:2.0
PRODID:SchoolNow
CALSCALE:GREGORIAN
BEGIN:VEVENT
UID:4b661e2c-ca07-11ef-84ba-0a58a9feac02
DTSTAMP:20260420T105507Z
SUMMARY:Board Meeting
LOCATION:District Office-1-Curriculum Center (120)\, District Office-1-Boar
 d Room (120)
URL;VALUE=URI:https://www.lahabraschools.org/elcerrito/calendar/7263889/boa
 rd-meeting
DTSTART:20260710T010000Z
DTEND:20260710T020000Z
END:VEVENT
END:VCALENDAR
