BEGIN:VCALENDAR
VERSION:2.0
PRODID:SchoolNow
CALSCALE:GREGORIAN
BEGIN:VEVENT
UID:b42d1572-d1e2-11ef-96f7-0a58a9feac02
DTSTAMP:20260420T170007Z
SUMMARY:Board Meeting
LOCATION:District Office-1-Curriculum Center (120)\, District Office-1-Boar
 d Room (120)
URL;VALUE=URI:https://www.lahabraschools.org/elcerrito/calendar/7309585/boa
 rd-meeting
DTSTART:20260911T010000Z
DTEND:20260911T020000Z
END:VEVENT
END:VCALENDAR
