BEGIN:VCALENDAR
VERSION:2.0
PRODID:SchoolNow
CALSCALE:GREGORIAN
BEGIN:VEVENT
UID:33d951de-e979-11ef-bc6e-0a58a9feac02
DTSTAMP:20260420T170007Z
SUMMARY:Board Meeting
LOCATION:District Office-1-Curriculum Center (120)\, District Office-1-Boar
 d Room (120)
URL;VALUE=URI:https://www.lahabraschools.org/elcerrito/calendar/7458749/boa
 rd-meeting
DTSTART:20261009T010000Z
DTEND:20261009T020000Z
END:VEVENT
END:VCALENDAR
