BEGIN:VCALENDAR
VERSION:2.0
PRODID:SchoolNow
CALSCALE:GREGORIAN
BEGIN:VEVENT
UID:a90163d2-09bf-11f0-8369-0a58a9feac02
DTSTAMP:20260420T230507Z
SUMMARY:Board Meeting
LOCATION:District Office-1-Curriculum Center (120)\, District Office-1-Boar
 d Room (120)
URL;VALUE=URI:https://www.lahabraschools.org/elcerrito/calendar/7771354/boa
 rd-meeting
DTSTART:20261113T020000Z
DTEND:20261113T030000Z
END:VEVENT
END:VCALENDAR
