BEGIN:VCALENDAR
VERSION:2.0
PRODID:SchoolNow
CALSCALE:GREGORIAN
BEGIN:VEVENT
UID:954d68e4-1f0f-11f0-9501-0affd2a63a8b
DTSTAMP:20260420T230507Z
SUMMARY:Board Meeting
LOCATION:District Office-1-Curriculum Center (120)\, District Office-1-Boar
 d Room (120)
URL;VALUE=URI:https://www.lahabraschools.org/elcerrito/calendar/7978343/boa
 rd-meeting
DTSTART:20261211T020000Z
DTEND:20261211T030000Z
END:VEVENT
END:VCALENDAR
