BEGIN:VCALENDAR
VERSION:2.0
PRODID:SchoolNow
CALSCALE:GREGORIAN
BEGIN:VEVENT
UID:a2a3efa6-31c8-11f0-abe5-0a58a9feac02
DTSTAMP:20260420T230507Z
SUMMARY:Board Meeting
LOCATION:District Office-1-Curriculum Center (120)\, District Office-1-Boar
 d Room (120)
URL;VALUE=URI:https://www.lahabraschools.org/elcerrito/calendar/8140773/boa
 rd-meeting
DTSTART:20270115T020000Z
DTEND:20270115T030000Z
END:VEVENT
END:VCALENDAR
