BEGIN:VCALENDAR
VERSION:2.0
PRODID:SchoolNow
CALSCALE:GREGORIAN
BEGIN:VEVENT
UID:ca3a5656-4283-11f0-a4f3-0ed512cb3007
DTSTAMP:20260420T105507Z
SUMMARY:School Site Council Meeting Room 102
URL;VALUE=URI:https://www.lahabraschools.org/elcerrito/calendar/8259338/sch
 ool-site-council-meeting-room-102
DTSTART:20260325T213000Z
DTEND:20260325T223000Z
END:VEVENT
END:VCALENDAR
