BEGIN:VCALENDAR
VERSION:2.0
PRODID:SchoolNow
CALSCALE:GREGORIAN
BEGIN:VEVENT
UID:bfc7bfd0-431c-11f0-ab03-02e9b157aabd
DTSTAMP:20260420T170007Z
SUMMARY:Winter Break
URL;VALUE=URI:https://www.lahabraschools.org/elcerrito/calendar/8262976/win
 ter-break
DTSTART;VALUE=DATE:20251222
DTEND;VALUE=DATE:20251227
END:VEVENT
END:VCALENDAR
