BEGIN:VCALENDAR
VERSION:2.0
PRODID:SchoolNow
CALSCALE:GREGORIAN
BEGIN:VEVENT
UID:bfc7c0b6-431c-11f0-8f55-02e9b157aabd
DTSTAMP:20260420T105507Z
SUMMARY:Winter Break
URL;VALUE=URI:https://www.lahabraschools.org/elcerrito/calendar/8262977/win
 ter-break
DTSTART;VALUE=DATE:20251229
DTEND;VALUE=DATE:20260103
END:VEVENT
END:VCALENDAR
