BEGIN:VCALENDAR
VERSION:2.0
PRODID:SchoolNow
CALSCALE:GREGORIAN
BEGIN:VEVENT
UID:bfc7c1b0-431c-11f0-acba-02e9b157aabd
DTSTAMP:20260420T105507Z
SUMMARY:Professional Development Day-No School
URL;VALUE=URI:https://www.lahabraschools.org/elcerrito/calendar/8262978/pro
 fessional-development-day-no-school
DTSTART;VALUE=DATE:20260105
DTEND;VALUE=DATE:20260106
END:VEVENT
END:VCALENDAR
