BEGIN:VCALENDAR
VERSION:2.0
PRODID:SchoolNow
CALSCALE:GREGORIAN
BEGIN:VEVENT
UID:bfc7c296-431c-11f0-ab85-02e9b157aabd
DTSTAMP:20260420T105507Z
SUMMARY:Stoves on Strike: Chick-Fil-A
URL;VALUE=URI:https://www.lahabraschools.org/elcerrito/calendar/8262979/sto
 ves-on-strike-chick-fil-a
DTSTART;VALUE=DATE:20260113
DTEND;VALUE=DATE:20260114
END:VEVENT
END:VCALENDAR
