BEGIN:VCALENDAR
VERSION:2.0
PRODID:SchoolNow
CALSCALE:GREGORIAN
BEGIN:VEVENT
UID:bfc7c386-431c-11f0-8665-02e9b157aabd
DTSTAMP:20260420T105507Z
SUMMARY:No School-MLK Jr.
URL;VALUE=URI:https://www.lahabraschools.org/elcerrito/calendar/8262980/no-
 school-mlk-jr
DTSTART;VALUE=DATE:20260119
DTEND;VALUE=DATE:20260120
END:VEVENT
END:VCALENDAR
