BEGIN:VCALENDAR
VERSION:2.0
PRODID:SchoolNow
CALSCALE:GREGORIAN
BEGIN:VEVENT
UID:bfc7c480-431c-11f0-a13c-02e9b157aabd
DTSTAMP:20260420T105507Z
SUMMARY:Minimum Day-School Hours 8:00-12:30
URL;VALUE=URI:https://www.lahabraschools.org/elcerrito/calendar/8262981/min
 imum-day-school-hours-8-00-12-30
DTSTART;VALUE=DATE:20260130
DTEND;VALUE=DATE:20260131
END:VEVENT
END:VCALENDAR
