BEGIN:VCALENDAR
VERSION:2.0
PRODID:SchoolNow
CALSCALE:GREGORIAN
BEGIN:VEVENT
UID:bfc7c566-431c-11f0-97cc-02e9b157aabd
DTSTAMP:20260420T105507Z
SUMMARY:Fairy Tale Ball
URL;VALUE=URI:https://www.lahabraschools.org/elcerrito/calendar/8262982/fai
 ry-tale-ball
DTSTART:20260131T020000Z
DTEND:20260131T033000Z
END:VEVENT
END:VCALENDAR
