BEGIN:VCALENDAR
VERSION:2.0
PRODID:SchoolNow
CALSCALE:GREGORIAN
BEGIN:VEVENT
UID:bfc7c642-431c-11f0-a9d6-02e9b157aabd
DTSTAMP:20260420T105507Z
SUMMARY:Parent Conference Week-Minimum Days 8:00-12:30
URL;VALUE=URI:https://www.lahabraschools.org/elcerrito/calendar/8262983/par
 ent-conference-week-minimum-days-8-00-12-30
DTSTART;VALUE=DATE:20260202
DTEND;VALUE=DATE:20260207
END:VEVENT
END:VCALENDAR
