BEGIN:VCALENDAR
VERSION:2.0
PRODID:SchoolNow
CALSCALE:GREGORIAN
BEGIN:VEVENT
UID:bfc7c73c-431c-11f0-85d1-02e9b157aabd
DTSTAMP:20260420T105507Z
SUMMARY:No School-Lincoln Day
URL;VALUE=URI:https://www.lahabraschools.org/elcerrito/calendar/8262984/no-
 school-lincoln-day
DTSTART;VALUE=DATE:20260209
DTEND;VALUE=DATE:20260210
END:VEVENT
END:VCALENDAR
