BEGIN:VCALENDAR
VERSION:2.0
PRODID:SchoolNow
CALSCALE:GREGORIAN
BEGIN:VEVENT
UID:bfc7c8fe-431c-11f0-ad84-02e9b157aabd
DTSTAMP:20260420T105507Z
SUMMARY:Elementary Minimum Day-8:00-12:30
URL;VALUE=URI:https://www.lahabraschools.org/elcerrito/calendar/8262986/ele
 mentary-minimum-day-8-00-12-30
DTSTART;VALUE=DATE:20260220
DTEND;VALUE=DATE:20260221
END:VEVENT
END:VCALENDAR
