BEGIN:VCALENDAR
VERSION:2.0
PRODID:SchoolNow
CALSCALE:GREGORIAN
BEGIN:VEVENT
UID:bfc7c9e4-431c-11f0-a3b4-02e9b157aabd
DTSTAMP:20260420T105507Z
SUMMARY:Grade 3-6 Dance
URL;VALUE=URI:https://www.lahabraschools.org/elcerrito/calendar/8262987/gra
 de-3-6-dance
DTSTART:20260228T020000Z
DTEND:20260228T033000Z
END:VEVENT
END:VCALENDAR
