BEGIN:VCALENDAR
VERSION:2.0
PRODID:SchoolNow
CALSCALE:GREGORIAN
BEGIN:VEVENT
UID:bfc7cd22-431c-11f0-9718-02e9b157aabd
DTSTAMP:20260420T105507Z
SUMMARY:Stoves on Strike: McTeacher Night
URL;VALUE=URI:https://www.lahabraschools.org/elcerrito/calendar/8262990/sto
 ves-on-strike-mcteacher-night
DTSTART:20260408T230000Z
DTEND:20260409T020000Z
END:VEVENT
END:VCALENDAR
