BEGIN:VCALENDAR
VERSION:2.0
PRODID:SchoolNow
CALSCALE:GREGORIAN
BEGIN:VEVENT
UID:bfc7cdfe-431c-11f0-b25c-02e9b157aabd
DTSTAMP:20260420T105507Z
SUMMARY:Spring Pictures
URL;VALUE=URI:https://www.lahabraschools.org/elcerrito/calendar/8262991/spr
 ing-pictures
DTSTART;VALUE=DATE:20260408
DTEND;VALUE=DATE:20260409
END:VEVENT
END:VCALENDAR
