BEGIN:VCALENDAR
VERSION:2.0
PRODID:SchoolNow
CALSCALE:GREGORIAN
BEGIN:VEVENT
UID:bfc7ceda-431c-11f0-a4f3-02e9b157aabd
DTSTAMP:20260420T105507Z
SUMMARY:Scholastic Book Fair
URL;VALUE=URI:https://www.lahabraschools.org/elcerrito/calendar/8262992/sch
 olastic-book-fair
DTSTART;VALUE=DATE:20260504
DTEND;VALUE=DATE:20260509
END:VEVENT
END:VCALENDAR
